BEGIN:VCALENDAR
VERSION:2.0
PRODID:icalendar-ruby
CALSCALE:GREGORIAN
METHOD:PUBLISH
BEGIN:VEVENT
DTSTAMP:20260421T162111Z
UID:5-399911@gracecommunity233.tithelysetup5.com
DTSTART:20260426T013000Z
DTEND:20260426T023000Z
CLASS:PUBLIC
CREATED:20260422T005848
DESCRIPTION:Sunday Worship
LAST-MODIFIED:20260422T005848
LOCATION:
SUMMARY:Sunday Worship
URL;VALUE=URI:https://gracebiblechurch.org.au/events/sunday-worship/2026-04
 -26
END:VEVENT
END:VCALENDAR
