BEGIN:VCALENDAR
VERSION:2.0
PRODID:icalendar-ruby
CALSCALE:GREGORIAN
METHOD:PUBLISH
BEGIN:VEVENT
DTSTAMP:20260421T194844Z
UID:5-400174@gracecommunity233.tithelysetup5.com
DTSTART:20260510T013000Z
DTEND:20260510T023000Z
CLASS:PUBLIC
CREATED:20260422T033907
DESCRIPTION:Sunday Worship
LAST-MODIFIED:20260422T033907
LOCATION:
SUMMARY:Sunday Worship
URL;VALUE=URI:https://gracebiblechurch.org.au/events/sunday-worship/2026-05
 -10
END:VEVENT
END:VCALENDAR
