BEGIN:VCALENDAR
VERSION:2.0
PRODID:icalendar-ruby
CALSCALE:GREGORIAN
METHOD:PUBLISH
BEGIN:VEVENT
DTSTAMP:20260421T214931Z
UID:5-400436@gracecommunity233.tithelysetup5.com
DTSTART:20260517T013000Z
DTEND:20260517T023000Z
CLASS:PUBLIC
CREATED:20260422T061452
DESCRIPTION:Sunday Worship
LAST-MODIFIED:20260422T061452
LOCATION:
SUMMARY:Sunday Worship
URL;VALUE=URI:https://gracebiblechurch.org.au/events/sunday-worship/2026-05
 -17
END:VEVENT
END:VCALENDAR
