BEGIN:VCALENDAR
VERSION:2.0
PRODID:icalendar-ruby
CALSCALE:GREGORIAN
METHOD:PUBLISH
BEGIN:VEVENT
DTSTAMP:20260421T232758Z
UID:5-400698@gracecommunity233.tithelysetup5.com
DTSTART:20260524T013000Z
DTEND:20260524T023000Z
CLASS:PUBLIC
CREATED:20260422T085324
DESCRIPTION:Sunday Worship
LAST-MODIFIED:20260422T085324
LOCATION:
SUMMARY:Sunday Worship
URL;VALUE=URI:https://gracebiblechurch.org.au/events/sunday-worship/2026-05
 -24
END:VEVENT
END:VCALENDAR
