BEGIN:VCALENDAR
VERSION:2.0
PRODID:icalendar-ruby
CALSCALE:GREGORIAN
METHOD:PUBLISH
BEGIN:VEVENT
DTSTAMP:20260422T011720Z
UID:5-400699@gracecommunity233.tithelysetup5.com
DTSTART:20260531T013000Z
DTEND:20260531T023000Z
CLASS:PUBLIC
CREATED:20260422T085324
DESCRIPTION:Sunday Worship
LAST-MODIFIED:20260422T085324
LOCATION:
SUMMARY:Sunday Worship
URL;VALUE=URI:https://gracebiblechurch.org.au/events/sunday-worship/2026-05
 -31
END:VEVENT
END:VCALENDAR
