BEGIN:VCALENDAR
VERSION:2.0
PRODID:icalendar-ruby
CALSCALE:GREGORIAN
METHOD:PUBLISH
BEGIN:VEVENT
DTSTAMP:20260422T031829Z
UID:5-400961@gracecommunity233.tithelysetup5.com
DTSTART:20260607T013000Z
DTEND:20260607T023000Z
CLASS:PUBLIC
CREATED:20260422T113151
DESCRIPTION:Sunday Worship
LAST-MODIFIED:20260422T113151
LOCATION:
SUMMARY:Sunday Worship
URL;VALUE=URI:https://gracebiblechurch.org.au/events/sunday-worship/2026-06
 -07
END:VEVENT
END:VCALENDAR
